Workbook
Name Acciones_Categoría_3: '[1]Ponderaciones y parámetros'!$K$6:$N$6
Name Nombre: 'Tipología entidad'!#REF!
Name Nombre: 'Tipología entidad'!#REF!
Name Simulador: [1]Listas!$B$2:$B$4

Sheet Inicio
C3: AUTODIAGNÓSTICO DE GESTIÓN
C5: POLÍTICA PARTICIPACIÓN CIUDADANA
D8: INSTRUCCIONES DE DILIGENCIAMIENTO
D11: AUTODIAGNÓSTICO
D14: PLAN DE ACCIÓN

Sheet Instrucciones
C3: AUTODIAGNÓSTICO DE GESTIÓN POLÍTICA DE PARTICIPACIÓN CIUDADANA
C5: INSTRUCCIONES DE DILIGENCIAMIENTO
C7: Este archivo hace parte de un conjunto de herramientas de Autodiagnóstico que permitirán a cada entidad desarrollar un ejercicio de valoración del estado de cada una de las dimensiones en las cuales se estructura el Modelo Integrado de Gestión y Planeación, con el propósito de que la entidad logre contar con una línea base respecto a los aspectos que debe fortalecer, los cuales deben ser incluídos en su planeación institucional. Este puede ser utilizado en el momento en que lo considere pertinente, sin implicar esto reporte alguno a Función Pública, a otras instancias del Gobierno o a organismos de Control.
C12: A continuación, se explica en detalle como se debe diligenciar.
C15: Autodiagnóstico:
C17: Está compuesto por las siguientes columnas:
C19: - | D19: Componentes: son los grandes temas que enmarcan la política objeto de medición.
C20: - | D20: Calificación: puntaje automático obtenido como resultado de la autocalificación que haga en el avance de la política.
C21: - | D21: Categoría: corresponde a las acciones que la entidad debe contemplar para el avance de la respectiva política.
C22: - | D22: Calificación: puntaje automatico obtenido como resultado de la autocalificación que haga en el avance de la política.
C23: - | D23: Actividades de Gestión: son las actividades puntuales que la entidad debe estar implementando para considerar el avance en la implementación de la política.
C24: - | D24: Puntaje: es la casilla donde la entidad se autocalificará de acuerdo con las actividades descritas, en una escala de 0 a 100
C25: - | D25: Observaciones: en este espacio, podrá hacer las anotaciones o comentarios que considere pertinentes
C27: Las ÚNICAS celdas que debe diligenciar son la del nombre de la Entidad y la columna de Puntaje (resaltada en azúl). La de observaciones de manera opcional si lo considera necesario.
C29: Para la calificación, se estableció una escala de 5 niveles así:
C31: Puntaje | D31: Nivel | E31: Color
C32: 0 - 20 | D32: 1
C33: 21 - 40 | D33: 2
C34: 41 - 60 | D34: 3
C35: 61- 80 | D35: 4
C36: 81- 100 | D36: 5
C38: Cuando se ingresa un puntaje, esa columna automáticamente mostrará el color que corresponde según la escala anterior. Así mismo, la calificación de las categorías, de los componentes y la calificación total se generan automáticamente. Recuerde sólo ingresar puntajes de 0 a 100
C41: Los resultados finales solo reflejarán el resultado de los puntajes diligenciados. Si alguna casilla se deja en blanco, no contará para los resultados
C43: Si usted considera que alguna de las actividades no aplica para su Entidad por sus características particulares, no diligencie puntaje, y en la columna Observaciones escriba "No aplica". Por ejemplo, si en su entidad no se efectúan negociaciones colectivas por no haber sindicatos, en el ítem "Negociación Colectiva" usted no deberá ingresar ningún puntaje y deberá escribir en la columna Observaciones "No aplica"
C47: ES MUY IMPORTANTE que los puntajes ingresados sean lo más objetivos posible, y que exista un soporte para cada uno de ellos. El propósito principal es identificar oportunidades de mejora, para lo cual es fundamental ser objetivos en los puntajes ingresados.
C50: Cuando finalice de calificar las actividades de gestión, podrá ver de manera gráfica los principales resultados, haciendo click en el botón GRÁFICAS, o regresar al menú principal.
C53: Gráficas:
C55: En esta hoja se podrán visualizar de una manera más clara y sencilla los resultados obtenidos. Estas se generarán automáticamente una vez sea diligenciado el autodiagnóstico.
C57: En la primera gráfica, se muestra el puntaje total obtenido por la entidad, comparado con cada uno de los niveles de calificación. De esta manera podrá visualizar en que nivel se encuentra actualmente y cuantos le faltan para alcanzar el maximo puntaje.
C60: En la segunda gráfica se presentan las calificaciones obtenidas por cada uno de los componentes que integran la política. Igualmente se comparan con los 5 niveles establecidos.
C62: Y por último, se muestra la calificación por categorías. Dado que el número de categorías es muy grande, se dividieron en varias gráficas.
C65: En conjunto, estos resultados le permitirán identificar cuales son las categorías y componentes que presentan un mayor rezago, o cuya implementación está más retrasada, y así poder centrar su prioridad al momento de realizar el plan de implementación.
C69: Plan de Acción:
... C75: 1. Documentación y guías de referencia (color gris): contiene toda la información y documentos de consulta que pueden ser útiles y deben ser de conocimiento
C77: - | D77: Guías normas y técnicas
C78: - | D78: Buenas prácticas e innovación
C79: - | D79: Normatividad
C80: - | D80: Otros
C82: 2. Planeación y Ruta de acción (color naranja): la idea es generar un plan de acción con base en el diagnóstico realizado. Los elementos mínimos que se proponen para ello, son:
C84: - | D84: Diseñar alternativas de mejora
...

Sheet Autodiagnóstico
C3: AUTODIAGNÓSTICO DE GESTIÓN POLÍTICA DE PARTICIPACIÓN CIUDADANA
C5: ENTIDAD | H5: CALIFICACIÓN TOTAL
C6: Minjusticia | H6: =IF(SUM(I10:I40)=0,"",AVERAGE(I10:I40)) -> 99.193548
C8: COMPONENTES | D8: CALIFICACIÓN | E8: CATEGORÍA | F8: CALIFICACIÓN | G8: ACTIVIDADES DE GESTIÓN | I8: PUNTAJE (0 - 100) | J8: Descripción de Evidencias | K8: OBSERVACIONES
C10: Condiciones institucionales idóneas para la promoción de la participación ciudadana | D10: =IF(SUM(I10:I29)=0,"",AVERAGE(I10:I29)) -> 98.75 | E10: Realizar el diagnóstico del estado actual de la participación ciudadana en la entidad | F10: =IF(SUM(I10:I14)=0,"",AVERAGE(I10:I14)) -> 100 | G10: 1 | H10: A partir de los resultados de FURAG identificar y documentar las debilidades y fortalezas de la participación en la implementación de la Política de Participación Ciudadana, individualizandolas en cada uno de los ciclos de la gestión (participación en el diagnóstico, la formulación e implementación) | I10: 100 | J10: https://www.minjusticia.gov.co/servicio-ciudadano/Paginas/Plan-y-estrategias-de-participacion.aspx | K10: Realizado y cumplido para la vigencia
G11: 2 | H11: A partir de los resultados de la evaluación de la oficina de control interno sobre el plan de participación, identificar y documentar las debilidades y fortalezas en la implementación de la Política de Participación Ciudadana, individualizadolas por cada uno de los ciclos de la gestión (participación en el diagnóstico, la formulación e implementación) | I11: 100 | J11: https://www.minjusticia.gov.co/servicio-ciudadano/Paginas/Plan-y-estrategias-de-participacion.aspx | K11: Realizado y cumplido para la vigencia
G12: 3 | H12: Validar con las áreas misionales y de apoyo si los grupos de ciudadanos, usuarios, o grupos de interés con los que trabajó en la vigencia anterior atienden a la caracterización, y clasifique la participación de dichos grupos en cada una de las fases del ciclo de la gestión (participación en el diagnóstico, la formulación e implementación) | I12: 100 | J12: https://www.minjusticia.gov.co/servicio-ciudadano/Paginas/Plan-y-estrategias-de-participacion.aspx | K12: Caracterizacion realizada y matriz de partes interesadas
G13: 4 | H13: Diagnosticar si los canales espacios, mecanismos y medios (presenciales y electrónicos) que empleó la entidad para promover la participación ciudadana son idóneos de acuerdo con la caracterización de ciudadanos, usuarios o grupos de interés. | I13: 100 | J13: https://www.minjusticia.gov.co/servicio-ciudadano/Paginas/Plan-y-estrategias-de-participacion.aspx | K13: Diagnostico realizado
G14: 5 | H14: Socializar los resultados del diagnóstico de la política de participación ciudadana al interior de la entidad. | I14: 100 | J14: https://www.minjusticia.gov.co/servicio-ciudadano/Paginas/Plan-y-estrategias-de-participacion.aspx | K14: Resultados publicados
E15: Construir el Plan de participación. Paso 1. Identificación de actividades que involucran procesos de participación | F15: =IF(SUM(I15:I19)=0,"",AVERAGE(I15:I19)) -> 100 | G15: 6 | H15: Conformar y capacitar un equipo de trabajo (que cuente con personal de areas misionales y de apoyo a la gestión) que lidere el proceso de planeación de la participación | I15: 100 | J15: https://www.minjusticia.gov.co/servicio-ciudadano/Paginas/Plan-y-estrategias-de-participacion.aspx | K15: Capacitaciones realizadas
G16: 7 | H16: Identificar en conjunto con las áreas misionales y de apoyo a la gestión, las metas y actividades que cada área realizará en las cuales tiene programado o debe involucrar a los ciudadanos, usuarios o grupos de interés caracterizados. | I16: 100 | J16: https://www.minjusticia.gov.co/servicio-ciudadano/Paginas/Plan-y-estrategias-de-participacion.aspx | K16: Construcción de PPC según lineamientos DAFP
G17: 8 | H17: De las actividades ya identificadas determinar cuáles corresponden a participación en las fases del ciclo de la gestión y clasificarlas en cada una de ellas. ( participación en el diagnóstico, la formulación e implementación y evaluación de políticas, planes, programas o proyectos.) | I17: 100 | J17: https://www.minjusticia.gov.co/servicio-ciudadano/Paginas/Plan-y-estrategias-de-participacion.aspx | K17: Formato con identificación para cada actividad.
G18: 9 | H18: De las actividades de participación ya identificadas, clasifique cuáles de ellas, se realizarán con instancias de participación legalmente conformadas y cuáles son otros espacios de participación. | I18: 100 | J18: https://www.minjusticia.gov.co/servicio-ciudadano/Paginas/Plan-y-estrategias-de-participacion.aspx | K18: En el formato ya se encuentra incluida la identificación.
G19: 10 | H19: Verificar si todos los grupos de valor están contemplados en al menos una de las actividades de participación ya identificadas. En caso de que no estén contemplados todos los grupos de valor, determine otras actividades en las cuales pueda involucrarlos. | I19: 100 | J19: https://www.minjusticia.gov.co/servicio-ciudadano/Paginas/Plan-y-estrategias-de-participacion.aspx | K19: Se evidencia en matriz de partes interesadas
E20: Construir el Plan de participación. Paso 2. Definir la estrategia para la ejecución del plan | F20: =IF(SUM(I20:I26)=0,"",AVERAGE(I20:I26)) -> 96.428571 | G20: 11 | H20: Definir los canales y las metodologías que se emplearán para desarrollar las actividades de participación ciudadana identificadas en las fases del ciclo (participación en el diagnóstico, la formulación e implementación y evaluación de políticas, planes, programas o proyectos.) | I20: 100 | J20: https://www.minjusticia.gov.co/servicio-ciudadano/Paginas/Plan-y-estrategias-de-participacion.aspx | K20: Se definene en formato y se evidencia cumplimiento en documento final de evidencias
G21: 12 | H21: Definir una estrategia para capacitar a los grupos de valor con el propósito de cualificar los procesos de participación ciudadana. | I21: 75
G22: 13 | H22: Definir los recursos, alianzas, convenios y presupuesto asociado a las actividades que se implementarán en la entidad para promover la participación ciudadana. | I22: 100 | J22: https://www.minjusticia.gov.co/servicio-ciudadano/Paginas/Plan-y-estrategias-de-participacion.aspx | K22: Se definen recursos según proyecto de inversión.
G23: 14 | H23: Establecer el cronograma de ejecución de las actividades identificadas que se desarrollarán para promover la participación ciudadana | I23: 100 | J23: https://www.minjusticia.gov.co/servicio-ciudadano/Paginas/Plan-y-estrategias-de-participacion.aspx | K23: Cronograma se encuentra publicado en pagina web
G24: 15 | H24: Definir los roles y responsabilidades de las diferentes áreas de la entidad, en materia de participación ciudadana | I24: 100 | J24: https://www.minjusticia.gov.co/servicio-ciudadano/Paginas/Plan-y-estrategias-de-participacion.aspx | K24: Se encuentran definidos de acuerdo al formato de seguimiento.
G25: 16 | H25: Definir las etapas y mecanismos de seguimiento a la implementación y de evaluación del cumplimiento de las actividades través de la estandarización de formatos internos de reporte de las actividades de participación que se realizarán en toda la entidad que como mínimo contenga: Actividades realizadas, grupos de valor involucrados, aportes en el proceso de participación ciudadana, indicadores y resultados. | I25: 100 | J25: https://www.minjusticia.gov.co/servicio-ciudadano/Paginas/Plan-y-estrategias-de-participacion.aspx | K25: Etapas de seguimiento e indicadores de cumplimiento en formato publicado.
G26: 17 | H26: Definir una estrategia de comunicación (interna y externa) que permita informar sobrela actividad participativa, desde su inicio, ejecución y desarrollo. | I26: 100 | J26: https://www.minjusticia.gov.co/servicio-ciudadano/Paginas/Plan-y-estrategias-de-participacion.aspx | K26: Publicado en pagina web, de acuerdo a lineamientos.
E27: Construir el Plan de participación. Paso 3. Divulgar el plan y retroalimentar. | F27: =IF(SUM(I27:I29)=0,"",AVERAGE(I27:I29)) -> 100 | G27: 18 | H27: Divulgar el plan de participación por distintos canales invitando a la ciudadanía o grupos de valor a que opinen acerca del mismo a través de la estrategia que se haya definido previamente . | I27: 100 | J27: https://www.minjusticia.gov.co/servicio-ciudadano/Paginas/Plan-y-estrategias-de-participacion.aspx | K27: Se divulgo y se recibio retroalimentacion de los grupos de valor.
G28: 19 | H28: Construir un mecanismo de recolección de información en el cual la entidad pueda sistematizar y hacer seguimiento a las observaciones de la ciudadanía y grupos de valor en el proceso de construcción del plan de participación. | I28: 100 | J28: https://www.minjusticia.gov.co/servicio-ciudadano/Paginas/Plan-y-estrategias-de-participacion.aspx | K28: Se creo formato para recolectar informacion de los grupos de valor
G29: 20 | H29: Divulgar el plan de participación ajustado a las observaciones recibidas por distintos canales, informando a la ciudadanía o grupos de valor los cambios incorporados con la estrategia que se haya definido previamente. | I29: 100 | J29: https://www.minjusticia.gov.co/servicio-ciudadano/Paginas/Plan-y-estrategias-de-participacion.aspx | K29: Se respondieron los aportes y se publico el PPC y la retroalimentación.
C30: Promoción efectiva de la participación ciudadana | D30: =IF(SUM(I30:I40)=0,"",AVERAGE(I30:I40)) -> 100 | E30: Ejecutar el Plan de participación | F30: =IF(SUM(I30:I36)=0,"",AVERAGE(I30:I36)) -> 100 | G30: 21 | H30: Preparar la información que entregará en el desarrollo de las actividades ya identificadas que se van a someter a participación. | I30: 100 | J30: https://www.minjusticia.gov.co/servicio-ciudadano/Paginas/Plan-y-estrategias-de-participacion.aspx | K30: Ejecucion con evidencias reportadas en formatos publicados
G31: 22 | H31: Socializar en especial a los grupos de valor que va a convocar al proceso de participación, la información que considere necesaria para preparar la actividad de participación y socializar las rutas de consulta de la misma. | I31: 100 | J31: https://www.minjusticia.gov.co/servicio-ciudadano/Paginas/Plan-y-estrategias-de-participacion.aspx | K31: Evidencias de la socializacion y el trabajo previo en la presentación final con las evidencias.
G32: 23 | H32: Convocar a través de los medios definidos en el plan de participación a los ciudadanos, usuarios y/o grupos de valor caracterizados, a participar en las actividades definidas habilitando los canales, escenarios mecanismos y medios presenciales y electrónicos definidos. | I32: 100 | J32: https://www.minjusticia.gov.co/servicio-ciudadano/Paginas/Plan-y-estrategias-de-participacion.aspx | K32: Caracterizacion y matriz de partes interesadas publicadas con grupos de valor y temnaticas priorizadas.
G33: 24 | H33: Habilitar los canales, escenarios, mecanismos y medios presenciales y electrónicos definidos en el plan para consultar, discutir y retroalimentar con los ciudadanos usuarios y/o grupos de valor, sus recomendaciones u objeciones en el desarrollo de la actividad que la entidad adelanta en le marco de su gestión. | I33: 100 | J33: https://www.minjusticia.gov.co/servicio-ciudadano/Paginas/Plan-y-estrategias-de-participacion.aspx | K33: Los canales utilizados se evidencian en las evidencias aportadas por las dependencias.
G34: 25 | H34: Sistematizar los resultados obtenidos en el ejercicio de las diferentes actividades de participación ciudadana adelantadas. | I34: 100 | J34: https://www.minjusticia.gov.co/servicio-ciudadano/Paginas/Plan-y-estrategias-de-participacion.aspx | K34: Se encuentran documentadas las actibvidades reportadas por las dependencias, asi como los resultados obtenidos de las mismas.
G35: 26 | H35: Analizar, por parte del área que ejecutó la actividad , las recomendaciones u objeciones recibidas en el proceso de participación, evaluar la viabilidad de su incorporación en la actividad que se sometió al proceso de participación y realizar los ajustes a que haya lugar. | I35: 100 | J35: https://www.minjusticia.gov.co/servicio-ciudadano/Paginas/Plan-y-estrategias-de-participacion.aspx | K35: Se realiza al final del año, a traves del reporte de informe final del PPC
G36: 27 | H36: Diligenciar el formato interno de reporte definido con los resultados obtenidos en el ejercicio, y entregarlo al área de planeación. | I36: 100 | K36: Formatos de seguimiento cuatrimestrales diligenciados y publicados
E37: Evaluación de Resultados | F37: =IF(SUM(I37:I40)=0,"",AVERAGE(I37:I40)) -> 100 | G37: 28 | H37: Analizar los resultados obtenidos en la implementación del plan de participación, con base en la consolidación de los formatos internos de reporte aportados por las áreas misionales y de apoyo, para: 1. Identificar el número de actividades en las que se involucró al ciudadano 2. Grupos de valor involucrados 3. Fases del ciclo que fueron sometidas a participación. 4. Resultados de la incidencia de la participación. | I37: 100 | J37: https://www.minjusticia.gov.co/servicio-ciudadano/Paginas/Plan-y-estrategias-de-participacion.aspx | K37: Se realiza al final del año, a traves del reporte de informe final del PPC
G38: 29 | H38: Publicar y divulgar, por parte del área que ejecutó la actividad , los resultados y acuerdos desarollados en el proceso de participación, señalando la fase del ciclo de la gestión y el nivel de incidencia de los grupos de valor. | I38: 100 | J38: https://www.minjusticia.gov.co/servicio-ciudadano/Paginas/Plan-y-estrategias-de-participacion.aspx | K38: Documento de evidencias con los resultados de las actividades
G39: 30 | H39: Publicar los resultados consolidados de las actividades de participación, los cuales deberán ser visibilizados de forma masiva y mediante el mecanismo que empleó para convocar a los grupos de valor que participaron. Los reportes individuales diligenciados en los formatos internos deberán quedar a disposición del público. | I39: 100 | J39: https://www.minjusticia.gov.co/servicio-ciudadano/Paginas/Plan-y-estrategias-de-participacion.aspx | K39: Se encuentran publicados en los formatos de seguimiento y en la presentacion final de evidencias
G40: 31 | H40: Documentar las buenas prácticas de la entidad en materia de participación ciudadana que permitan alimentar el próximo plan de participación. | I40: 100 | J40: https://www.minjusticia.gov.co/participa/plan-y-estrategias-de-participaci%C3%B3n | K40: Se encuentra documentado en presentación con las evidencias de las actividades del PPC

Sheet Gráficas
C3: RESULTADOS DE GESTIÓN PARTICIPACIÓN CIUDADANA
C6: 1. Calificación total:
J11: Niveles | K11: Calificación
I12: =+Inicio!C5 -> POLÍTICA PARTICIPACIÓN CIUDADANA | J12: 100 | K12: =+Autodiagnóstico!H6 -> 99.193548
C28: 2. Calificación por componentes:
J33: Variable | K33: Rangos | L33: Puntaje actual
J34: =+Autodiagnóstico!C10 -> Condiciones institucionales idóneas para la promoción de la participación ciudadana | K34: 100 | L34: =+Autodiagnóstico!D10 -> 98.75
J35: =+Autodiagnóstico!C30 -> Promoción efectiva de la participación ciudadana | K35: 100 | L35: =+Autodiagnóstico!D30 -> 100
C51: 3. Calificación por categorías:
K53: Categorías del componente 1:
I54: =+Autodiagnóstico!C10 -> Condiciones institucionales idóneas para la promoción de la participación ciudadana
I56: Acciones | J56: Niveles | K56: Calificación
I57: =+Autodiagnóstico!E10 -> Realizar el diagnóstico del estado actual de la participación ciudadana en la entidad | J57: 100 | K57: =+Autodiagnóstico!F10 -> 100
I58: =+Autodiagnóstico!E15 -> Construir el Plan de participación. Paso 1. Identificación de actividades que involucran procesos de participación | J58: 100 | K58: =+Autodiagnóstico!F15 -> 100
I59: =+Autodiagnóstico!E20 -> Construir el Plan de participación. Paso 2. Definir la estrategia para la ejecución del plan | J59: 100 | K59: =+Autodiagnóstico!F20 -> 96.428571
I60: =+Autodiagnóstico!E27 -> Construir el Plan de participación. Paso 3. Divulgar el plan y retroalimentar. | J60: 100 | K60: =+Autodiagnóstico!F26 -> 0
K77: Categorías del componente 2
K78: =+Autodiagnóstico!C30 -> Promoción efectiva de la participación ciudadana
J83: Acciones | K83: Niveles | L83: Calificación
J84: =+Autodiagnóstico!E30 -> Ejecutar el Plan de participación | K84: 100 | L84: =+Autodiagnóstico!F30 -> 100
J85: =+Autodiagnóstico!E37 -> Evaluación de Resultados | K85: 100 | L85: =+Autodiagnóstico!F37 -> 100
K106: INICIO

Sheet Tipología entidad
A1: INSTITUCIÓN | B1: Tipología
A2: AGENCIA COLOMBIANA PARA LA REINTEGRACIÓN DE PERSONAS Y GRUPOS ALZADOS EN ARMAS | B2: Tipo B
A3: AGENCIA DEL INSPECTOR GENERAL DE TRIBUTOS, RENTAS Y CONTRIBUCIONES PARAFISCALES | B3: Tipo C
A4: AGENCIA LOGÍSTICA DE LAS FUERZAS MILITARES | B4: Tipo A
A5: AGENCIA NACIONAL DE CONTRATACIÓN PÚBLICA -COLOMBIA COMPRA EFICIENTE- | B5: Tipo C
A6: AGENCIA NACIONAL DE DEFENSA JURIDICA DEL ESTADO | B6: Tipo C
A7: AGENCIA NACIONAL DE HIDROCARBUROS | B7: Tipo B
A8: AGENCIA NACIONAL DE INFRAESTRUCTURA. | B8: Tipo A
A9: AGENCIA NACIONAL DE MINERÍA | B9: Tipo B
A10: AGENCIA NACIONAL DE SEGURIDAD VIAL | B10: Tipo C
A11: AGENCIA NACIONAL DEL ESPECTRO | B11: Tipo C
A12: AGENCIA PRESIDENCIAL DE COOPERACIÓN INTERNACIONAL DE COLOMBIA | B12: Tipo C
... A62: MINISTERIO DE AGRICULTURA Y DESARROLLO RURAL - MIN AGRICULTURA | B62: Tipo A
A63: MINISTERIO DE AMBIENTE Y DESARROLLO SOSTENIBLE | B63: Tipo A | C63: Se cambia 14 marzo 2017 por decisión FP. Correo Sergio
A64: MINISTERIO DE COMERCIO, INDUSTRIA Y TURISMO | B64: Tipo A
A65: MINISTERIO DE CULTURA | B65: Tipo A | C65: Se cambia 14 marzo 2017 por decisión FP. Correo Sergio
A66: MINISTERIO DE DEFENSA NACIONAL | B66: Tipo A
A67: MINISTERIO DE EDUCACIÓN NACIONAL | B67: Tipo A
A68: MINISTERIO DE HACIENDA Y CRÉDITO PÚBLICO | B68: Tipo A
A69: MINISTERIO DE JUSTICIA Y DEL DERECHO | B69: Tipo A | C69: Se cambia 14 marzo 2017 por decisión FP. Correo Sergio
A70: MINISTERIO DE MINAS Y ENERGÍA | B70: Tipo A
A71: MINISTERIO DE RELACIONES EXTERIORES | B71: Tipo A
A72: MINISTERIO DE SALUD Y PROTECCIÓN SOCIAL | B72: Tipo A
A73: MINISTERIO DE TECNOLOGÍAS DE LA INFORMACIÓN Y LAS COMUNICACIONES | B73: Tipo A | C73: Se cambia 14 marzo 2017 por decisión FP. Correo Sergio
A74: MINISTERIO DE TRANSPORTE | B74: Tipo A
A75: MINISTERIO DE VIVIENDA, CIUDAD Y TERRITORIO | B75: Tipo A
A76: MINISTERIO DEL INTERIOR | B76: Tipo A | C76: Se cambia 14 marzo 2017 por decisión FP. Correo Sergio
A77: MINISTERIO DEL TRABAJO | B77: Tipo A
A78: PARQUES NACIONALES NATURALES DE COLOMBIA | B78: Tipo B
A79: SERVICIO GEOLÓGICO COLOMBIANO | B79: Tipo B
A80: SERVICIO NACIONAL DE APRENDIZAJE - SENA - | B80: Tipo A
A81: SUPERINTENDENCIA DE INDUSTRIA Y COMERCIO | B81: Tipo B
A82: SUPERINTENDENCIA DE LA ECONOMÍA SOLIDARIA | B82: Tipo C
A83: SUPERINTENDENCIA DE NOTARIADO Y REGISTRO | B83: Tipo A
A84: SUPERINTENDENCIA DE PUERTOS Y TRANSPORTE | B84: Tipo C
A85: SUPERINTENDENCIA DE SERVICIOS PÚBLICOS DOMICILIARIOS | B85: Tipo B
A86: SUPERINTENDENCIA DE SOCIEDADES | B86: Tipo B
A87: SUPERINTENDENCIA DE VIGILANCIA Y SEGURIDAD PRIVADA | B87: Tipo C
A88: SUPERINTENDENCIA DEL SUBSIDIO FAMILIAR - SSF - | B88: Tipo C
... A107: UNIDAD NACIONAL PARA LA GESTIÓN DEL RIESGO DE DESASTRES | B107: Tipo C
