Workbook
Name DEB_AM: [1]TABLAS!$A$28:$A$31
Name DEB_AN: [2]TABLAS!$A$28:$A$31
Name Niveles: Listas!$C$2:$C$271
Name OAP_E1: '[3]6. PAD DPENDENCIAS'!#REF!
Name OAP_E1: '[3]6. PAD DPENDENCIAS'!#REF!
Name OAP_E1: '[3]6. PAD DPENDENCIAS'!#REF!
Name OAP_E2: '[3]6. PAD DPENDENCIAS'!#REF!
Name OAP_E2: '[3]6. PAD DPENDENCIAS'!#REF!
Name OAP_E2: '[3]6. PAD DPENDENCIAS'!#REF!
Name OAP11T: '[3]6. PAD DPENDENCIAS'!$AA$5
Name OAP21T: '[3]6. PAD DPENDENCIAS'!$AA$36
Name OAP31T: '[3]6. PAD DPENDENCIAS'!#REF!
Name OAP31T: '[3]6. PAD DPENDENCIAS'!#REF!
Name OAP31T: '[3]6. PAD DPENDENCIAS'!#REF!
Name OAP32T: '[3]6. PAD DPENDENCIAS'!#REF!
Name OAP32T: '[3]6. PAD DPENDENCIAS'!#REF!
Name OAP32T: '[3]6. PAD DPENDENCIAS'!#REF!
Name OAP33T: '[3]6. PAD DPENDENCIAS'!#REF!
Name OAP33T: '[3]6. PAD DPENDENCIAS'!#REF!
Name OAP33T: '[3]6. PAD DPENDENCIAS'!#REF!
Name OAP34T: '[3]6. PAD DPENDENCIAS'!#REF!
Name OAP34T: '[3]6. PAD DPENDENCIAS'!#REF!
Name OAP34T: '[3]6. PAD DPENDENCIAS'!#REF!
Name OAP3TOTAL: '[3]6. PAD DPENDENCIAS'!#REF!
Name OAP3TOTAL: '[3]6. PAD DPENDENCIAS'!#REF!
Name OAP3TOTAL: '[3]6. PAD DPENDENCIAS'!#REF!
Name OAP41T: '[3]6. PAD DPENDENCIAS'!#REF!
Name OAP41T: '[3]6. PAD DPENDENCIAS'!#REF!
Name OAP41T: '[3]6. PAD DPENDENCIAS'!#REF!
Name OAP42T: '[3]6. PAD DPENDENCIAS'!#REF!
Name OAP42T: '[3]6. PAD DPENDENCIAS'!#REF!
Name OAP42T: '[3]6. PAD DPENDENCIAS'!#REF!
Name OAP43T: '[3]6. PAD DPENDENCIAS'!#REF!
Name OAP43T: '[3]6. PAD DPENDENCIAS'!#REF!
Name OAP43T: '[3]6. PAD DPENDENCIAS'!#REF!
Name OAP44T: '[3]6. PAD DPENDENCIAS'!#REF!
Name OAP44T: '[3]6. PAD DPENDENCIAS'!#REF!
Name OAP44T: '[3]6. PAD DPENDENCIAS'!#REF!
Name OAP4TOTAL: '[3]6. PAD DPENDENCIAS'!#REF!
Name OAP4TOTAL: '[3]6. PAD DPENDENCIAS'!#REF!
Name OAP4TOTAL: '[3]6. PAD DPENDENCIAS'!#REF!
Name OAP51T: '[3]6. PAD DPENDENCIAS'!#REF!
Name OAP51T: '[3]6. PAD DPENDENCIAS'!#REF!
Name OAP51T: '[3]6. PAD DPENDENCIAS'!#REF!
Name OAP52T: '[3]6. PAD DPENDENCIAS'!#REF!
Name OAP52T: '[3]6. PAD DPENDENCIAS'!#REF!
Name OAP52T: '[3]6. PAD DPENDENCIAS'!#REF!
Name OAP53T: '[3]6. PAD DPENDENCIAS'!#REF!
Name OAP53T: '[3]6. PAD DPENDENCIAS'!#REF!
Name OAP53T: '[3]6. PAD DPENDENCIAS'!#REF!
Name OAP54T: '[3]6. PAD DPENDENCIAS'!#REF!
Name OAP54T: '[3]6. PAD DPENDENCIAS'!#REF!
Name OAP54T: '[3]6. PAD DPENDENCIAS'!#REF!
Name OAP5TOTAL: '[3]6. PAD DPENDENCIAS'!#REF!
Name OAP5TOTAL: '[3]6. PAD DPENDENCIAS'!#REF!
Name OAP5TOTAL: '[3]6. PAD DPENDENCIAS'!#REF!
Name OAP61T: '[3]6. PAD DPENDENCIAS'!#REF!
Name OAP61T: '[3]6. PAD DPENDENCIAS'!#REF!
Name OAP61T: '[3]6. PAD DPENDENCIAS'!#REF!
Name OAP62T: '[3]6. PAD DPENDENCIAS'!#REF!

Sheet Listas
A1: PRODUCTO | B1: DESCRIPCIÓN DEL NIVEL | C1: NIVELES
A2: Diagnóstico de archivos | B2: La entidad carece de diagnóstico integral de archivos. | C2: INICIAL | D2: 1 | E2: =MID(B2,1,180) -> La entidad carece de diagnóstico integral de archivos. | F2: =LEN(B2) -> 54
B3: La entidad se encuentra elaborando el diagnóstico integral de archivos teniendo en cuenta los lineamientos establecidos por el Archivo General de la Nación. | C3: BÁSICO | E3: =MID(B3,1,180) -> La entidad se encuentra elaborando el diagnóstico integral de archivos teniendo en cuenta los lineamientos establecidos por el Archivo General de la Nación. | F3: =LEN(B3) -> 156
B4: La entidad cuenta con el documento diagnóstico integral de archivos el cual incluye los aspectos archivísticos, de administración, conservación, infraestructura y tecnología. | C4: INTERMEDIO | E4: =MID(B4,1,180) -> La entidad cuenta con el documento diagnóstico integral de archivos el cual incluye los aspectos archivísticos, de administración, conservación, infraestructura y tecnología. | F4: =LEN(B4) -> 174
B5: La entidad realiza seguimiento y control al diagnóstico de archivos de acuerdo con las herramientas de medición y evaluación previstas que garanticen la elaboración de los instrumentos archivísticos. | C5: AVANZADO 1 | E5: =MID(B5,1,180) -> La entidad realiza seguimiento y control al diagnóstico de archivos de acuerdo con las herramientas de medición y evaluación previstas que garanticen la elaboración de los instrume | F5: =LEN(B5) -> 199
B6: La entidad realiza procesos de mejora continua al diagnóstico de archivos que generen mecanismos de actualización acorde con los cambios administrativos, normativos y tecnológicos. | C6: AVANZADO 2 | E6: =MID(B6,1,180) -> La entidad realiza procesos de mejora continua al diagnóstico de archivos que generen mecanismos de actualización acorde con los cambios administrativos, normativos y tecnológicos. | F6: =LEN(B6) -> 180
A7: Política de Gestión Documental | B7: La entidad carece de la política de gestión documental. | C7: INICIAL | D7: 2 | E7: =MID(B7,1,180) -> La entidad carece de la política de gestión documental. | F7: =LEN(B7) -> 55
B8: La entidad se encuentra elaborando la política de gestión documental de acuerdo con los lineamientos establecidos por el Archivo General de la Nación. | C8: BÁSICO | E8: =MID(B8,1,180) -> La entidad se encuentra elaborando la política de gestión documental de acuerdo con los lineamientos establecidos por el Archivo General de la Nación. | F8: =LEN(B8) -> 150
B9: La entidad implementa la Política de Gestión Documental y en ella se evidencia el compromiso de la alta dirección frente a la gestión documental. | C9: INTERMEDIO | E9: =MID(B9,1,180) -> La entidad implementa la Política de Gestión Documental y en ella se evidencia el compromiso de la alta dirección frente a la gestión documental. | F9: =LEN(B9) -> 145
B10: La entidad realiza seguimiento y control a la Política de Gestión Documental de acuerdo con las herramientas de medición y evaluación previstas por la alta dirección, en articulación con otras políticas para la gestión integral de la información y la documentación. | C10: AVANZADO 1 | E10: =MID(B10,1,180) -> La entidad realiza seguimiento y control a la Política de Gestión Documental de acuerdo con las herramientas de medición y evaluación previstas por la alta dirección, en articulaci | F10: =LEN(B10) -> 265
B11: La entidad adelanta acciones de mejora continua que pueden derivarse en la actualización de la Política de Gestión Documental. | C11: AVANZADO 2 | E11: =MID(B11,1,180) -> La entidad adelanta acciones de mejora continua que pueden derivarse en la actualización de la Política de Gestión Documental. | F11: =LEN(B11) -> 126
A12: Programa de Gestión Documental - PGD. | B12: La entidad carece del Programa de Gestión Documental- PGD. | C12: INICIAL | D12: 3 | E12: =MID(B12,1,180) -> La entidad carece del Programa de Gestión Documental- PGD. | F12: =LEN(B12) -> 58
B13: La entidad se encuentra elaborando el programa de gestión Documental de acuerdo con los lineamientos y metodología definidos por el Archivo General de la Nación. | C13: BÁSICO | E13: =MID(B13,1,180) -> La entidad se encuentra elaborando el programa de gestión Documental de acuerdo con los lineamientos y metodología definidos por el Archivo General de la Nación. | F13: =LEN(B13) -> 161
B14: La entidad implementa y aprueba el Programa de Gestión Documental y en este se incorpora los lineamientos de los procesos archivísticos, encaminados a la planificación, procesamiento, manejo y organización de la documentación producida y recibida, desde su origen hasta su destino final, también incluye los programas específicos de acuerdo con las necesidades de la entidad. | C14: INTERMEDIO | E14: =MID(B14,1,180) -> La entidad implementa y aprueba el Programa de Gestión Documental y en este se incorpora los lineamientos de los procesos archivísticos, encaminados a la planificación, procesamien | F14: =LEN(B14) -> 375
B15: La entidad realiza monitoreo y análisis permanente al Programa de Gestión Documental, para garantizar su desarrollo que se materializará en acciones de revisión y evaluación al desarrollo del PGD. | C15: AVANZADO 1 | E15: =MID(B15,1,180) -> La entidad realiza monitoreo y análisis permanente al Programa de Gestión Documental, para garantizar su desarrollo que se materializará en acciones de revisión y evaluación al des | F15: =LEN(B15) -> 196
B16: La entidad realiza mejora continua al Programa de Gestión Documental, cuyo propósito es mantener los procesos y actividades de la gestión documental en continua innovación, desarrollo y actualización. | C16: AVANZADO 2 | E16: =MID(B16,1,180) -> La entidad realiza mejora continua al Programa de Gestión Documental, cuyo propósito es mantener los procesos y actividades de la gestión documental en continua innovación, desarro | F16: =LEN(B16) -> 200
A17: Plan Institucional de Archivos - PINAR | B17: La entidad carece del Plan Institucional de Archivos - PINAR. | C17: INICIAL | D17: 4 | E17: =MID(B17,1,180) -> La entidad carece del Plan Institucional de Archivos - PINAR. | F17: =LEN(B17) -> 61
B18: La entidad se encuentra elaborando el instrumento archivístico PINAR de acuerdo con los lineamientos y metodología establecida por el Archivo General de la Nación. | C18: BÁSICO | E18: =MID(B18,1,180) -> La entidad se encuentra elaborando el instrumento archivístico PINAR de acuerdo con los lineamientos y metodología establecida por el Archivo General de la Nación. | F18: =LEN(B18) -> 163
B19: La entidad implementa el Plan Institucional de Archivos - PINAR y orienta el desarrollo de los planes, programas y proyectos de la función archivística a corto, mediano y largo plazo, además se encuentra articulado al plan de acción de la entidad. | C19: INTERMEDIO | E19: =MID(B19,1,180) -> La entidad implementa el Plan Institucional de Archivos - PINAR y orienta el desarrollo de los planes, programas y proyectos de la función archivística a corto, mediano y largo pla | F19: =LEN(B19) -> 247
B20: La entidad realiza seguimiento y control al Plan Institucional de Archivos, a través de instrumentos de medición, para garantizar el cumplimiento de los planes y proyectos. | C20: AVANZADO 1 | E20: =MID(B20,1,180) -> La entidad realiza seguimiento y control al Plan Institucional de Archivos, a través de instrumentos de medición, para garantizar el cumplimiento de los planes y proyectos. | F20: =LEN(B20) -> 172
B21: La entidad realiza procesos de mejora continua al Plan Institucional de Archivos - PINAR, para generar recomendaciones sobre su desarrollo y actualización. | C21: AVANZADO 2 | E21: =MID(B21,1,180) -> La entidad realiza procesos de mejora continua al Plan Institucional de Archivos - PINAR, para generar recomendaciones sobre su desarrollo y actualización. | F21: =LEN(B21) -> 155
A22: Sistema Integrado de Conservación - SIC | B22: La entidad carece del Sistema Integrado de Conservación- SIC | C22: INICIAL | D22: 5 | E22: =MID(B22,1,180) -> La entidad carece del Sistema Integrado de Conservación- SIC | F22: =LEN(B22) -> 60
B23: la entidad elabora el sistema integrado de conservación -SIC, teniendo en cuenta los lineamientos dados por el Archivo General de la Nación. | C23: BÁSICO | E23: =MID(B23,1,180) -> la entidad elabora el sistema integrado de conservación -SIC, teniendo en cuenta los lineamientos dados por el Archivo General de la Nación. | F23: =LEN(B23) -> 140
B24: La entidad implementa el sistema integrado de conservación y en él se establecen los planes de conservación de documentos físicos y el plan de preservación digital. | C24: INTERMEDIO | E24: =MID(B24,1,180) -> La entidad implementa el sistema integrado de conservación y en él se establecen los planes de conservación de documentos físicos y el plan de preservación digital. | F24: =LEN(B24) -> 164
B25: La entidad realiza seguimiento y control al Sistema Integrado de Conservación, a través de sus instrumentos de evaluación. | C25: AVANZADO 1 | E25: =MID(B25,1,180) -> La entidad realiza seguimiento y control al Sistema Integrado de Conservación, a través de sus instrumentos de evaluación. | F25: =LEN(B25) -> 122
B26: la entidad realiza los procesos de mejora al sistema integrado de acuerdo con los hallazgos realizados durante el proceso de control y seguimiento. | C26: AVANZADO 2 | E26: =MID(B26,1,180) -> la entidad realiza los procesos de mejora al sistema integrado de acuerdo con los hallazgos realizados durante el proceso de control y seguimiento. | F26: =LEN(B26) -> 147
A27: Plan de análisis de procesos y procedimientos de la producción documental | B27: La entidad carece de un plan de análisis de procesos y procedimientos de la producción documental. | C27: INICIAL | D27: 6 | E27: =MID(B27,1,180) -> La entidad carece de un plan de análisis de procesos y procedimientos de la producción documental. | F27: =LEN(B27) -> 98
B28: La entidad a través de la oficina de planeación está desarrollando el análisis a los procesos y procedimientos de la producción documental, para identificar y eliminar duplicidad de funciones y barreras que impidan la oportuna, eficiente y eficaz prestación del servicio en la gestión de la entidad. | C28: BÁSICO | E28: =MID(B28,1,180) -> La entidad a través de la oficina de planeación está desarrollando el análisis a los procesos y procedimientos de la producción documental, para identificar y eliminar duplicidad d | F28: =LEN(B28) -> 299
B29: La entidad genera estrategias para dar a conocer los procesos y procedimientos de la producción documental, para hacerlos más ágiles y oportunos. | C29: INTERMEDIO | E29: =MID(B29,1,180) -> La entidad genera estrategias para dar a conocer los procesos y procedimientos de la producción documental, para hacerlos más ágiles y oportunos. | F29: =LEN(B29) -> 145
B30: La entidad realiza seguimiento y control a los procesos y procedimientos de la producción documental con el fin de medir el avance de su implementación. | C30: AVANZADO 1 | E30: =MID(B30,1,180) -> La entidad realiza seguimiento y control a los procesos y procedimientos de la producción documental con el fin de medir el avance de su implementación. | F30: =LEN(B30) -> 152
B31: La entidad realiza procesos de mejora continua a los procesos y procedimientos de la producción documental, con el fin de generar mecanismos de actualización. | C31: AVANZADO 2 | E31: =MID(B31,1,180) -> La entidad realiza procesos de mejora continua a los procesos y procedimientos de la producción documental, con el fin de generar mecanismos de actualización. | F31: =LEN(B31) -> 158
A32: Matriz de Riesgos en Gestión Documental | B32: La entidad carece de una matriz de riesgos en gestión documental. | C32: INICIAL | D32: 7 | E32: =MID(B32,1,180) -> La entidad carece de una matriz de riesgos en gestión documental. | F32: =LEN(B32) -> 65
B33: La entidad está desarrollando y articula la matriz de riegos en gestión documental, con la dependencia responsable de su gestión. | C33: BÁSICO | E33: =MID(B33,1,180) -> La entidad está desarrollando y articula la matriz de riegos en gestión documental, con la dependencia responsable de su gestión. | F33: =LEN(B33) -> 129
B34: La entidad implementa la matriz de riesgo en gestión documental, para mejorar el control de riesgos y la seguridad de la información. | C34: INTERMEDIO | E34: =MID(B34,1,180) -> La entidad implementa la matriz de riesgo en gestión documental, para mejorar el control de riesgos y la seguridad de la información. | F34: =LEN(B34) -> 133
B35: La entidad realiza seguimiento y control a la matriz de riesgos en gestión documental. | C35: AVANZADO 1 | E35: =MID(B35,1,180) -> La entidad realiza seguimiento y control a la matriz de riesgos en gestión documental. | F35: =LEN(B35) -> 86
B36: La entidad realiza procesos de mejora continua a la matriz de riesgos en gestión documental, con el fin de garantizar su eficacia y efectividad. | C36: AVANZADO 2 | E36: =MID(B36,1,180) -> La entidad realiza procesos de mejora continua a la matriz de riesgos en gestión documental, con el fin de garantizar su eficacia y efectividad. | F36: =LEN(B36) -> 144
A37: Articulación de la Gestión Documental con el Plan Estratégico Institucional | B37: La entidad carece de lineamientos para la articulación de la gestión documental con el plan estratégico institucional. | C37: INICIAL | D37: 8 | E37: =MID(B37,1,180) -> La entidad carece de lineamientos para la articulación de la gestión documental con el plan estratégico institucional. | F37: =LEN(B37) -> 118
B38: La entidad está desarrollando estrategias y planes para lograr la articulación de la gestión documental con el plan estratégico institucional. | C38: BÁSICO | E38: =MID(B38,1,180) -> La entidad está desarrollando estrategias y planes para lograr la articulación de la gestión documental con el plan estratégico institucional. | F38: =LEN(B38) -> 142
B39: La entidad articula la gestión documental al plan estratégico institucional. | C39: INTERMEDIO | E39: =MID(B39,1,180) -> La entidad articula la gestión documental al plan estratégico institucional. | F39: =LEN(B39) -> 76
B40: La entidad realiza seguimiento y control a la implementación de los lineamientos de la función archivística en los planes y estrategias de la institución. | C40: AVANZADO 1 | E40: =MID(B40,1,180) -> La entidad realiza seguimiento y control a la implementación de los lineamientos de la función archivística en los planes y estrategias de la institución. | F40: =LEN(B40) -> 155
...

Sheet PARAMETROS
B1: NIVELES DE MADUREZ MGDA
A4: SIGNIFICADO | B4: DEFINICIÓN | E4: PONDERACIÓN ASIGNADA
A5: Inicial | B5: Entidad carece del producto | E5: 0
A6: Básico | B6: La entidad está desarrollando el producto teniendo cuenta las necesidades de orden administrativo, legal, funcional y tecnológico | E6: <= 65
A7: Intermedio | B7: La entidad implementa el producto teniendo cuenta las necesidades de orden administrativo, legal, funcional y tecnológico | E7: >=66 y <=79
A8: Avanzado 1 | B8: La evidencia observada cumple a cabalidad con el ítem, evaluado, es decir que el desarrollo de las actividades programadas se ejecuta conforme a lo planeado, con la debida oportunidad, efectividad y cuenta con las evidencias documentales que lo soportan | E8: >=80 y <=94
A9: Avanzado 2 | B9: La entidad realiza procesos de mejora continua a los productos teniendo en cuenta las necesidades e orden administrativo, legal, funcional y tecnológico | E9: >=95 y <=100
C13: 0
A14: SIGNIFICADO | B14: DEFINICIÓN | E14: PONDERACIÓN ASIGNADA
A15: INICIAL | B15: Entidad carece del producto | E15: 0
A16: BÁSICO | B16: La entidad está desarrollando el producto teniendo cuenta las necesidades de orden administrativo, legal, funcional y tecnológico | E16: 65
A17: Intermedio | B17: La entidad implementa el producto teniendo cuenta las necesidades de orden administrativo, legal, funcional y tecnológico | E17: 79
A18: Avanzado 1 | B18: La evidencia observada cumple a cabalidad con el ítem, evaluado, es decir que el desarrollo de las actividades programadas se ejecuta conforme a lo planeado, con la debida oportunidad, efectividad y cuenta con las evidencias documentales que lo soportan | E18: 94
A19: Avanzado 2 | B19: La entidad realiza procesos de mejora continua a los productos teniendo en cuenta las necesidades e orden administrativo, legal, funcional y tecnológico | E19: 100

Sheet MGDA reporte I-2026
C3: AUTODIAGNÓSTICO POLÍTICA DE GESTIÓN DOCUMENTAL
C6: ENTIDAD | J6: CALIFICACIÓN TOTAL | L6: NIVEL DE MADUREZ | N6: JUSTIFICACIÓN
C7: Ministerio de Justica y del Derecho | J7: =AVERAGE(N12:N65) -> 87.081366 | L7: =IF(J7="","",IF(AND(J7=0),"Inicial",IF(AND(J7>0,J7<=65),"Básico",IF(AND(J7>=66,J7<=79),"Intermedio",IF(AND(J7>=80,J7<=94),"Avanzado 1",IF(AND(J7>=95,J7<=100),"Avanzado 2","")))))) -> Avanzado 1 | N7: =VLOOKUP(L7,PARAMETROS!A4:E9,2,FALSE) -> La evidencia observada cumple a cabalidad con el ítem, evaluado, es decir que el desarrollo de las actividades programadas se ejecuta conforme a lo planeado, con la debida oportunidad, efectividad y cuenta con las evidencias documentales que lo soportan
C11: COMPONENTES | D11: CALIFICACIÓN | E11: Peso | F11: CATEGORÍAS | G11: CALIFICACIÓN | H11: Peso | I11: SUBCOMPONENTE | J11: PRODUCTO | K11: ACTIVIDADES DE GESTIÓN | L11: NIVEL | N11: CALIFICACIÓN PROMEDIO | O11: OBSERVACIONES
C12: Gestión Documental | E12: 0.3 | F12: ESTRATÉGICO | G12: =(+(L12*15)+(#REF!*10)+(L13*15)+(L14*20)+(L45*20)+(#REF!*20))/100 -> #VALUE! | H12: La Entidad cuenta con una Política de Gestión Documental | I12: Planeación de la funcion archivística | J12: Diagnóstico de archivos | K12: La entidad realiza procesos de mejora continua al diagnóstico de archivos que generen mecanismos de actualización acorde con los cambios administrativos, normativos y tecnológicos. | L12: =IF(K12="","",INDEX(Niveles,MATCH(MID('MGDA reporte I-2026'!K12,1,180),Listas!$E$2:$E$271,0),1)) -> AVANZADO 2 | M12: =IFERROR(INDEX(PARAMETROS!$E$15:$E$19,MATCH(L12,PARAMETROS!$A$15:$A$19,0),1), "") -> 100 | N12: =IFERROR(AVERAGE(M12:M18),"") -> 97.428571 | O12: Se mantiene en el mismo nivel
H13: Elaboración y utilización del Diagnóstico Integral de Archivos | J13: Política de Gestión Documental | K13: La entidad realiza seguimiento y control a la Política de Gestión Documental de acuerdo con las herramientas de medición y evaluación previstas por la alta dirección, en articulación con otras políticas para la gestión integral de la información y la documentación. | L13: =IF(K13="","",INDEX(Niveles,MATCH(MID('MGDA reporte I-2026'!K13,1,180),Listas!$E$2:$E$271,0),1)) -> AVANZADO 1 | M13: =IFERROR(INDEX(PARAMETROS!$E$15:$E$19,MATCH(L13,PARAMETROS!$A$15:$A$19,0),1), "") -> 94 | O13: Se mantiene en el mismo nivel
H14: Frente al proceso de la planeación de la función archivística, elaboración y aprobación en instancias del Comité Institucional de Desarrollo Administrativo, del Plan institucional de archivos - PINAR e inclusión de actividades de gestión documental en planeación de la entidad. | J14: Programa de Gestión Documental - PGD. | K14: La entidad realiza mejora continua al Programa de Gestión Documental, cuyo propósito es mantener los procesos y actividades de la gestión documental en continua innovación, desarrollo y actualización. | L14: =IF(K14="","",INDEX(Niveles,MATCH(MID('MGDA reporte I-2026'!K14,1,180),Listas!$E$2:$E$271,0),1)) -> AVANZADO 2 | M14: =IFERROR(INDEX(PARAMETROS!$E$15:$E$19,MATCH(L14,PARAMETROS!$A$15:$A$19,0),1), "") -> 100 | O14: Se mantiene en el mismo nivel
J15: Plan Institucional de Archivos - PINAR | K15: La entidad realiza procesos de mejora continua al Plan Institucional de Archivos - PINAR, para generar recomendaciones sobre su desarrollo y actualización. | L15: =IF(K15="","",INDEX(Niveles,MATCH(MID('MGDA reporte I-2026'!K15,1,180),Listas!$E$2:$E$271,0),1)) -> AVANZADO 2 | M15: =IFERROR(INDEX(PARAMETROS!$E$15:$E$19,MATCH(L15,PARAMETROS!$A$15:$A$19,0),1), "") -> 100 | O15: Se mantiene en el mismo nivel
J16: Sistema Integrado de Conservación - SIC | K16: la entidad realiza los procesos de mejora al sistema integrado de acuerdo con los hallazgos realizados durante el proceso de control y seguimiento. | L16: =IF(K16="","",INDEX(Niveles,MATCH(MID('MGDA reporte I-2026'!K16,1,180),Listas!$E$2:$E$271,0),1)) -> AVANZADO 2 | M16: =IFERROR(INDEX(PARAMETROS!$E$15:$E$19,MATCH(L16,PARAMETROS!$A$15:$A$19,0),1), "") -> 100 | O16: Se mantiene en el mismo nivel
J17: Plan de análisis de procesos y procedimientos de la producción documental | K17: La entidad realiza seguimiento y control a los procesos y procedimientos de la producción documental con el fin de medir el avance de su implementación. | L17: =IF(K17="","",INDEX(Niveles,MATCH(MID('MGDA reporte I-2026'!K17,1,180),Listas!$E$2:$E$271,0),1)) -> AVANZADO 1 | M17: =IFERROR(INDEX(PARAMETROS!$E$15:$E$19,MATCH(L17,PARAMETROS!$A$15:$A$19,0),1), "") -> 94 | O17: Se mantiene en el mismo nivel
J18: Matriz de Riesgos en Gestión Documental | K18: La entidad realiza seguimiento y control a la matriz de riesgos en gestión documental. | L18: =IF(K18="","",INDEX(Niveles,MATCH(MID('MGDA reporte I-2026'!K18,1,180),Listas!$E$2:$E$271,0),1)) -> AVANZADO 1 | M18: =IFERROR(INDEX(PARAMETROS!$E$15:$E$19,MATCH(L18,PARAMETROS!$A$15:$A$19,0),1), "") -> 94 | O18: Se mantiene en el mismo nivel
I19: Planeación estratégica | J19: Articulación de la Gestión Documental con el Plan Estratégico Institucional | K19: La entidad realiza procesos de mejora continua a las estrategias y planes de la institución para garantizar que la gestión documental se encuentra articulada y garantizar su desarrollo en la institución. | L19: =IF(K19="","",INDEX(Niveles,MATCH(MID('MGDA reporte I-2026'!K19,1,180),Listas!$E$2:$E$271,0),1)) -> AVANZADO 2 | M19: =IFERROR(INDEX(PARAMETROS!$E$15:$E$19,MATCH(L19,PARAMETROS!$A$15:$A$19,0),1), "") -> 100 | N19: =IFERROR(AVERAGE(M19:M20),"") -> 100 | O19: Se mantiene en el mismo nivel
J20: Articulación de la Gestión Documental con Políticas del Modelo Integrado de Planeación y Gestión - MIPG | K20: La entidad realiza medidas de acción encaminadas a la mejora continua para alcanzar la excelencia, en la correcta articulación de la gestión documental con el MIPG. | L20: =IF(K20="","",INDEX(Niveles,MATCH(MID('MGDA reporte I-2026'!K20,1,180),Listas!$E$2:$E$271,0),1)) -> AVANZADO 2 | M20: =IFERROR(INDEX(PARAMETROS!$E$15:$E$19,MATCH(L20,PARAMETROS!$A$15:$A$19,0),1), "") -> 100 | O20: Se mantiene en el mismo nivel
I21: Control, evaluación y seguimiento | J21: Indicadores de Gestión | K21: La entidad realiza procesos de mejora continua al cumplimiento de los planes y proyectos establecidos en el PINAR. | L21: =IF(K21="","",INDEX(Niveles,MATCH(MID('MGDA reporte I-2026'!K21,1,180),Listas!$E$2:$E$271,0),1)) -> AVANZADO 2 | M21: =IFERROR(INDEX(PARAMETROS!$E$15:$E$19,MATCH(L21,PARAMETROS!$A$15:$A$19,0),1), "") -> 100 | N21: =IFERROR(AVERAGE(M21:M23),"") -> 100 | O21: Se mantiene en el mismo nivel
I22: Control, evaluación y seguimiento | J22: Informes de Gestión | K22: La entidad a través de los informes de gestión genera procesos de mejora continua al desarrollo de la función archivística. | L22: =IF(K22="","",INDEX(Niveles,MATCH(MID('MGDA reporte I-2026'!K22,1,180),Listas!$E$2:$E$271,0),1)) -> AVANZADO 2 | M22: =IFERROR(INDEX(PARAMETROS!$E$15:$E$19,MATCH(L22,PARAMETROS!$A$15:$A$19,0),1), "") -> 100 | O22: Se mantiene en el mismo nivel
J23: Programa de Auditoría y Control | K23: La entidad realiza procesos de mejora continua, como resultado de las observaciones y hallazgos encontrados a los procesos de la gestión documental y la función archivística. | L23: =IF(K23="","",INDEX(Niveles,MATCH(MID('MGDA reporte I-2026'!K23,1,180),Listas!$E$2:$E$271,0),1)) -> AVANZADO 2 | M23: =IFERROR(INDEX(PARAMETROS!$E$15:$E$19,MATCH(L23,PARAMETROS!$A$15:$A$19,0),1), "") -> 100 | O23: Se mantiene en el mismo nivel
F24: ADMINISTRACIÓN DE ARCHIVOS | I24: Administración | J24: Planeación de la Administración de archivos | K24: La entidad desarrolla estrategias de innovación, empoderamiento, autogestión, con el fin de cumplir me manera más eficaz la política archivística y administración de los fondos documentales. | L24: =IF(K24="","",INDEX(Niveles,MATCH(MID('MGDA reporte I-2026'!K24,1,180),Listas!$E$2:$E$271,0),1)) -> AVANZADO 2 | M24: =IFERROR(INDEX(PARAMETROS!$E$15:$E$19,MATCH(L24,PARAMETROS!$A$15:$A$19,0),1), "") -> 100 | N24: =IFERROR(AVERAGE(M24),"") -> 100 | O24: Se mantiene en el mismo nivel
I25: Recursos físicos | J25: Infraestructura Locativa | K25: La entidad realiza seguimiento y control a la adecuación de la infraestructura, con el fin de cumplir con las especificaciones técnicas y normativas. | L25: =IF(K25="","",INDEX(Niveles,MATCH(MID('MGDA reporte I-2026'!K25,1,180),Listas!$E$2:$E$271,0),1)) -> AVANZADO 1 | M25: =IFERROR(INDEX(PARAMETROS!$E$15:$E$19,MATCH(L25,PARAMETROS!$A$15:$A$19,0),1), "") -> 94 | N25: =IFERROR(AVERAGE(M25),"") -> 94 | O25: Se avanza al siguiente nivel
I26: Talento humano | J26: Gestión Humana | K26: La entidad realiza seguimiento y control al personal que se encuentra desarrollando las actividades de la función archivística y administración de archivos, que conllevan al mejorando del ambiente organizacional, la confianza y colaboración para el fortalecimiento profesional. | L26: =IF(K26="","",INDEX(Niveles,MATCH(MID('MGDA reporte I-2026'!K26,1,180),Listas!$E$2:$E$271,0),1)) -> AVANZADO 1 | M26: =IFERROR(INDEX(PARAMETROS!$E$15:$E$19,MATCH(L26,PARAMETROS!$A$15:$A$19,0),1), "") -> 94 | N26: =IFERROR(AVERAGE(M26:M27),"") -> 94 | O26: Se mantiene en el mismo nivel
J27: Capacitación en Gestión Documental | K27: La entidad realiza seguimiento y control al PIC, para garantizar el cumplimiento y difusión de los contenidos de la función archivística. | L27: =IF(K27="","",INDEX(Niveles,MATCH(MID('MGDA reporte I-2026'!K27,1,180),Listas!$E$2:$E$271,0),1)) -> AVANZADO 1 | M27: =IFERROR(INDEX(PARAMETROS!$E$15:$E$19,MATCH(L27,PARAMETROS!$A$15:$A$19,0),1), "") -> 94 | O27: Se mantiene en el mismo nivel
I28: Gestión en seguridad y salud ocupacional | J28: Aseguramiento de las Condiciones de Trabajo | K28: La entidad realiza seguimiento y control a su sistema de Gestión y seguridad en el trabajo donde se verifican las condiciones establecidas para los encargados de la Gestión Documental | L28: =IF(K28="","",INDEX(Niveles,MATCH(MID('MGDA reporte I-2026'!K28,1,180),Listas!$E$2:$E$271,0),1)) -> AVANZADO 1 | M28: =IFERROR(INDEX(PARAMETROS!$E$15:$E$19,MATCH(L28,PARAMETROS!$A$15:$A$19,0),1), "") -> 94 | N28: =IFERROR(AVERAGE(M28),"") -> 94 | O28: Se mantiene en el mismo nivel
F29: PROCESOS DE LA GESTION DOCUMENTAL | I29: Planeación (Técnica) | J29: Diseño y Creación de Documentos | K29: La entidad realiza procesos de mejora continua a los lineamientos para el diseño y creación de documentos a partir de las validaciones en las dependencias, incorporando ajustes en los casos necesarios bajo la garantía del cumplimiento del contexto administrativo, legal, funcional y técnico y en especial, para la optimización de la gestión de la información y la documentación | L29: =IF(K29="","",INDEX(Niveles,MATCH(MID('MGDA reporte I-2026'!K29,1,180),Listas!$E$2:$E$271,0),1)) -> AVANZADO 2 | M29: =IFERROR(INDEX(PARAMETROS!$E$15:$E$19,MATCH(L29,PARAMETROS!$A$15:$A$19,0),1), "") -> 100 | N29: =IFERROR(AVERAGE(M29:M33),"") -> 95.8 | O29: Se mantiene en el mismo nivel
J30: Documentos Especiales | K30: la entidad implementa la identificación de soportes documentales especiales mediante la TRD, TVD e inventarios documentales | L30: =IF(K30="","",INDEX(Niveles,MATCH(MID('MGDA reporte I-2026'!K30,1,180),Listas!$E$2:$E$271,0),1)) -> INTERMEDIO | M30: =IFERROR(INDEX(PARAMETROS!$E$15:$E$19,MATCH(L30,PARAMETROS!$A$15:$A$19,0),1), "") -> 79 | O30: Se mantiene en el mismo nivel
J31: Cuadro de Clasificación Documental | K31: La entidad realiza evaluación y monitoreo al Cuadro de Clasificación Documental - CCD, para generar recomendaciones sobre su actualización y orientar las acciones de mejoramiento continuo. | L31: =IF(K31="","",INDEX(Niveles,MATCH(MID('MGDA reporte I-2026'!K31,1,180),Listas!$E$2:$E$271,0),1)) -> AVANZADO 2 | M31: =IFERROR(INDEX(PARAMETROS!$E$15:$E$19,MATCH(L31,PARAMETROS!$A$15:$A$19,0),1), "") -> 100 | O31: Se mantiene en el mismo nivel
J32: Tablas de Retención Documental | K32: La entidad realiza mejora mediante el proceso de actualización de las TRD de acuerdo con los momentos establecidos en la normatividad archivística ya que esto le permite mantener la organización documental. | L32: =IF(K32="","",INDEX(Niveles,MATCH(MID('MGDA reporte I-2026'!K32,1,180),Listas!$E$2:$E$271,0),1)) -> AVANZADO 2 | M32: =IFERROR(INDEX(PARAMETROS!$E$15:$E$19,MATCH(L32,PARAMETROS!$A$15:$A$19,0),1), "") -> 100 | O32: Se mantiene en el mismo nivel
J33: Tablas de Valoración Documental | K33: La entidad realiza procesos de transferencia secundarias y pone a disposición de la investigación sus acervos documentales históricos e innova con procesos culturales | L33: =IF(K33="","",INDEX(Niveles,MATCH(MID('MGDA reporte I-2026'!K33,1,180),Listas!$E$2:$E$271,0),1)) -> AVANZADO 2 | M33: =IFERROR(INDEX(PARAMETROS!$E$15:$E$19,MATCH(L33,PARAMETROS!$A$15:$A$19,0),1), "") -> 100 | O33: Se mantiene en el mismo nivel
I34: Producción | J34: Medios y Técnicas de Producción | K34: La entidad realiza seguimiento y control a los medios y técnicas de producción para todos los soportes documentales, con el fin de establecer falencias a lo establecido en el manual de estilo y aplicar los correctivos necesarios | L34: =IF(K34="","",INDEX(Niveles,MATCH(MID('MGDA reporte I-2026'!K34,1,180),Listas!$E$2:$E$271,0),1)) -> AVANZADO 1 | M34: =IFERROR(INDEX(PARAMETROS!$E$15:$E$19,MATCH(L34,PARAMETROS!$A$15:$A$19,0),1), "") -> 94 | N34: =IFERROR(AVERAGE(M34:M35),"") -> 94 | O34: Se mantiene en el mismo nivel
J35: Reprografía | K35: La entidad realiza seguimiento y control al programa de reprografía con el fin de poder establecer las acciones que permitan mantener actualizado y de acuerdo con las necesidades reales para cada una de las dependencias. | L35: =IF(K35="","",INDEX(Niveles,MATCH(MID('MGDA reporte I-2026'!K35,1,180),Listas!$E$2:$E$271,0),1)) -> AVANZADO 1 | M35: =IFERROR(INDEX(PARAMETROS!$E$15:$E$19,MATCH(L35,PARAMETROS!$A$15:$A$19,0),1), "") -> 94 | O35: Se mantiene en el mismo nivel
I36: Gestión y trámite | J36: Registro y Distribución de Documentos (trámite) | K36: La entidad cuenta con un gestor documental que controla todas las comunicaciones oficiales recibidas por todos los canales establecidos y notifica electrónicamente a los usuarios internos y externos además controla los tiempos del trámite generando alertas. | L36: =IF(K36="","",INDEX(Niveles,MATCH(MID('MGDA reporte I-2026'!K36,1,180),Listas!$E$2:$E$271,0),1)) -> AVANZADO 1 | M36: =IFERROR(INDEX(PARAMETROS!$E$15:$E$19,MATCH(L36,PARAMETROS!$A$15:$A$19,0),1), "") -> 94 | N36: 94 | O36: Disminuye de nivel
I37: Organización | J37: Descripción Documental | K37: La entidad realiza procesos de mejora continua a los procedimientos de descripción documental orientados a disponer la consulta de la documentación en línea. | L37: =IF(K37="","",INDEX(Niveles,MATCH(MID('MGDA reporte I-2026'!K37,1,180),Listas!$E$2:$E$271,0),1)) -> AVANZADO 2 | M37: =IFERROR(INDEX(PARAMETROS!$E$15:$E$19,MATCH(L37,PARAMETROS!$A$15:$A$19,0),1), "") -> 100 | N37: =IFERROR(AVERAGE(M37),"") -> 100 | O37: Se mantiene en el mismo nivel
I38: Transferencias | J38: Plan de Transferencias Documentales | K38: La entidad realiza procesos de mejora continua al plan y cronograma de transferencias documentales donde se garanticen los recursos y espacios suficientes para su constante crecimiento. y realiza proceso de interoperabilidad con otras instituciones de archivo y culturales.La entidad realiza transferencias electrónicas secundarias, en cumplimiento de los requisitos del archivo histórico que recibe. | L38: =IF(K38="","",INDEX(Niveles,MATCH(MID('MGDA reporte I-2026'!K38,1,180),Listas!$E$2:$E$271,0),1)) -> AVANZADO 2 | M38: =IFERROR(INDEX(PARAMETROS!$E$15:$E$19,MATCH(L38,PARAMETROS!$A$15:$A$19,0),1), "") -> 100 | N38: =IFERROR(AVERAGE(M38),"") -> 100 | O38: Se mantiene en el mismo nivel
I39: Disposición de documentos | J39: Eliminación de Documentos | K39: La entidad realiza mejoras al procedimiento de eliminación documental teniendo en cuenta las actualizaciones de los instrumentos archivísticos que rigen este proceso. | L39: =IF(K39="","",INDEX(Niveles,MATCH(MID('MGDA reporte I-2026'!K39,1,180),Listas!$E$2:$E$271,0),1)) -> AVANZADO 2 | M39: =IFERROR(INDEX(PARAMETROS!$E$15:$E$19,MATCH(L39,PARAMETROS!$A$15:$A$19,0),1), "") -> 100 | N39: =IFERROR(AVERAGE(M39),"") -> 100 | O39: Se mantiene en el mismo nivel
I40: Preservación a largo plazo | J40: Plan de Conservación Documental | K40: La entidad realiza los procesos de mejora al Sistema Integrado de Conservación de acuerdo con los hallazgos realizados durante el proceso de control y seguimiento. | L40: =IF(K40="","",INDEX(Niveles,MATCH(MID('MGDA reporte I-2026'!K40,1,180),Listas!$E$2:$E$271,0),1)) -> AVANZADO 2 | M40: =IFERROR(INDEX(PARAMETROS!$E$15:$E$19,MATCH(L40,PARAMETROS!$A$15:$A$19,0),1), "") -> 100 | N40: =IFERROR(AVERAGE(M40),"") -> 100 | O40: Se mantiene en el mismo nivel
J41: Plan de Preservación Digital | K41: La entidad diseña y formula el plan de preservación digital a largo plazo, que incorpora los programas, estrategias, procesos y procedimientos, tendientes a asegurar la preservación a largo plazo de los documentos electrónicos. | L41: =IF(K41="","",INDEX(Niveles,MATCH(MID('MGDA reporte I-2026'!K41,1,180),Listas!$E$2:$E$271,0),1)) -> INTERMEDIO | M41: =IFERROR(INDEX(PARAMETROS!$E$15:$E$19,MATCH(L41,PARAMETROS!$A$15:$A$19,0),1), "") -> 79 | N41: =IFERROR(AVERAGE(M41),"") -> 79 | O41: Disminuye de nivel
I42: Valoración | J42: Valores Primarios y Secundarios | K42: La entidad realiza mejora continua a los procesos de valoración mediante la revisión constante de la normatividad asociada a cada serie o subserie, los cambios y comportamientos culturales ya que estos pueden influir en la valoración documental, así como la actualización de los instrumentos archivísticos. | L42: =IF(K42="","",INDEX(Niveles,MATCH(MID('MGDA reporte I-2026'!K42,1,180),Listas!$E$2:$E$271,0),1)) -> AVANZADO 2 | M42: =IFERROR(INDEX(PARAMETROS!$E$15:$E$19,MATCH(L42,PARAMETROS!$A$15:$A$19,0),1), "") -> 100 | N42: =IFERROR(AVERAGE(M42),"") -> 100 | O42: Se mantiene en el mismo nivel
F43: TECNOLÓGICO | I43: Articulación de la gestión de documentos electrónicos | J43: Gestión de documentos electrónicos en los procesos, procedimientos, trámites o servicios internos | K43: Para los procesos, procedimientos, trámites o servicios automatizados, la Entidad involucra los siguientes aspectos: - Los documentos electrónicos cuentan con esquemas de validación y metadatos - Los documentos electrónicos hacen parte de un expediente electrónico - Los expedientes electrónicos cuentan con el índice electrónico y metadatos | L43: =IF(K43="","",INDEX(Niveles,MATCH(MID('MGDA reporte I-2026'!K43,1,180),Listas!$E$2:$E$271,0),1)) -> INTERMEDIO | M43: =IFERROR(INDEX(PARAMETROS!$E$15:$E$19,MATCH(L43,PARAMETROS!$A$15:$A$19,0),1), "") -> 79 | N43: 0 | O43: Se mantiene en el mismo nivel
J44: Gestión de documentos electrónicos en los canales virtuales de atención externos | K44: Los canales virtuales (ventanilla única, portales transversales y sede electrónica) se encuentran articulados con el SGDEA de la entidad. | L44: =IF(K44="","",INDEX(Niveles,MATCH(MID('MGDA reporte I-2026'!K44,1,180),Listas!$E$2:$E$271,0),1)) -> AVANZADO 1 | M44: =IFERROR(INDEX(PARAMETROS!$E$15:$E$19,MATCH(L44,PARAMETROS!$A$15:$A$19,0),1), "") -> 94 | O44: Se mantiene en el mismo nivel
H45: Elaboración, aprobación , implementación y publicación del Programa de Gestión Documental - PGD, | J45: Sistemas de información corporativos | K45: La entidad incorpora lineamientos básicos de los sistemas de gestión empresarial, las plataformas de gestión de contenidos o sistemas de información transaccional u operacional, los cuales involucran: - Identificación y tratamiento de la información estructurada y la no estructurada - Normalización de formularios electrónicos - Identificación de metadatos aplicables a la Gestión Documental - Clasificación documental - Controles de acceso a la información | L45: =IF(K45="","",INDEX(Niveles,MATCH(MID('MGDA reporte I-2026'!K45,1,180),Listas!$E$2:$E$271,0),1)) -> BÁSICO | M45: 80 | O45: Se mantiene en el mismo nivel
I46: Tecnologías para la gestión de documentos electrónicos | J46: Modelo de Requisitos para la gestión de documentos electrónicos | K46: La Entidad implementa y realiza seguimiento y control del Modelo de Requisitos para la gestión de documentos electrónicos revisando que las funcionalidades actuales respondan a las necesidades específicas de entidad. | L46: =IF(K46="","",INDEX(Niveles,MATCH(MID('MGDA reporte I-2026'!K46,1,180),Listas!$E$2:$E$271,0),1)) -> AVANZADO 1 | M46: =IFERROR(INDEX(PARAMETROS!$E$15:$E$19,MATCH(L46,PARAMETROS!$A$15:$A$19,0),1), "") -> 94 | N46: =IFERROR(AVERAGE(M46:M52),"") -> 72.142857 | O46: Se mantiene en el mismo nivel
J47: Sistema de Gestión de Documentos Electrónicos de Archivo | K47: La Entidad cuenta con un sistema de gestión de documentos electrónicos de archivo para la administración, trámite y preservación de sus expedientes y documentos electrónicos que responde a las necesidades de la Entidad y sus instrumentos archivísticos. | L47: =IF(K47="","",INDEX(Niveles,MATCH(MID('MGDA reporte I-2026'!K47,1,180),Listas!$E$2:$E$271,0),1)) -> INTERMEDIO | M47: =IFERROR(INDEX(PARAMETROS!$E$15:$E$19,MATCH(L47,PARAMETROS!$A$15:$A$19,0),1), "") -> 79 | O47: Se mantiene en el mismo nivel
...

Sheet MGDA reporte I-2026 con justif
C3: AUTODIAGNÓSTICO POLÍTICA DE GESTIÓN DOCUMENTAL
C6: ENTIDAD | K6: CALIFICACIÓN TOTAL | M6: NIVEL DE MADUREZ | Q6: JUSTIFICACIÓN
C7: Ministerio de Justica y del Derecho | K7: =AVERAGE(Q12:Q65) -> 88.798758 | M7: =IF(K7="","",IF(AND(K7=0),"Inicial",IF(AND(K7>0,K7<=65),"Básico",IF(AND(K7>=66,K7<=79),"Intermedio",IF(AND(K7>=80,K7<=94),"Avanzado 1",IF(AND(K7>=95,K7<=100),"Avanzado 2","")))))) -> Avanzado 1 | Q7: =VLOOKUP(M7,PARAMETROS!A4:E9,2,FALSE) -> La evidencia observada cumple a cabalidad con el ítem, evaluado, es decir que el desarrollo de las actividades programadas se ejecuta conforme a lo planeado, con la debida oportunidad, efectividad y cuenta con las evidencias documentales que lo soportan
C11: COMPONENTES | D11: CALIFICACIÓN | E11: Peso | F11: CATEGORÍAS | G11: CALIFICACIÓN | H11: Peso | I11: SUBCOMPONENTE | J11: ítem | K11: PRODUCTO | L11: ACTIVIDADES DE GESTIÓN | M11: NIVEL | O11: PUNTAJE II-semestre 2025 | P11: PUNTAJE I-semestre 2026 | Q11: CALIFICACIÓN PROMEDIO 2024 | R11: CALIFICACIÓN PROMEDIO 2025 | S11: CALIFICACIÓN PROMEDIO 2025 | T11: OBSERVACIONES | V11: RESPONSABLE | W11: DESCRIPCIÓN ARGUMENTADA | X11: EVIDENCIA | Y11: OBSERVACIONES ANDREA
C12: Gestión Documental | E12: 0.3 | F12: ESTRATÉGICO | G12: =(+(M12*15)+(#REF!*10)+(M13*15)+(M14*20)+(M45*20)+(#REF!*20))/100 -> #VALUE! | H12: La Entidad cuenta con una Política de Gestión Documental | I12: Planeación de la funcion archivística | J12: 1 | K12: Diagnóstico de archivos | L12: La entidad realiza procesos de mejora continua al diagnóstico de archivos que generen mecanismos de actualización acorde con los cambios administrativos, normativos y tecnológicos. | M12: =IF(L12="","",INDEX(Niveles,MATCH(MID('MGDA reporte I-2026 con justif'!L12,1,180),Listas!$E$2:$E$271,0),1)) -> AVANZADO 2 | N12: =IFERROR(INDEX(PARAMETROS!$E$15:$E$19,MATCH(M12,PARAMETROS!$A$15:$A$19,0),1), "") -> 100 | O12: 100 | P12: 100 | Q12: =IFERROR(AVERAGE(N12:N18),"") -> 97.428571 | R12: =IFERROR(AVERAGE(O12:O18),"") -> 97.428571 | S12: =IFERROR(AVERAGE(P12:P18),"") -> 97.428571 | T12: Se mantiene en el mismo nivel | V12: Rodrigo Delgado | W12: La información correspondiente será reportada durante el segundo semestre de la vigencia, en razón de que el Informe de Diagnóstico Integral se encuentra en proceso de elaboración y consolidación. En consecuencia, se mantendrá la misma calificación hasta tanto se cuente con el informe definitivo y se actualice la información correspondiente. | X12: N/A | Y12: OK
H13: Elaboración y utilización del Diagnóstico Integral de Archivos | J13: 2 | K13: Política de Gestión Documental | L13: La entidad realiza seguimiento y control a la Política de Gestión Documental de acuerdo con las herramientas de medición y evaluación previstas por la alta dirección, en articulación con otras políticas para la gestión integral de la información y la documentación. | M13: =IF(L13="","",INDEX(Niveles,MATCH(MID('MGDA reporte I-2026 con justif'!L13,1,180),Listas!$E$2:$E$271,0),1)) -> AVANZADO 1 | N13: =IFERROR(INDEX(PARAMETROS!$E$15:$E$19,MATCH(M13,PARAMETROS!$A$15:$A$19,0),1), "") -> 94 | O13: 94 | P13: 94 | T13: Se mantiene en el mismo nivel | V13: Omaira Huertas William Forero | W13: La Política de Gestión Documental Física y Electrónica del Ministerio de Justicia y del Derecho fue presentada y aprobada mediante Acta No. 7 del Comité Institucional de Gestión y Desempeño (CIGD), el 27 de septiembre de 2024, mediante la cual se aprueba y actualiza dicha política, procediéndose a su publicación en la página web de la entidad, en la sección de transparencia. En este sentido, la Política de Gestión Documental constituye un instrumento de apoyo para la implementación eficiente de los instrumentos archivísticos establecidos en el Decreto 1080 de 2015, artículo 2.8.2.5.8. La Política de Gestión Documental del Ministerio de Justicia y del Derecho se encuentra alineada con el Programa de Gestión Documental (PGD) y el Plan Institucional de Archivos (PINAR); por lo tanto, durante el primer semestre, su implementación se ve reflejada en los informes trimestrales del PGD y del PINAR. Adicionalmente, como parte de los instrumentos archivísticos y estratégicos que posibilitan la implementación de la Política de Gestión Documental, en cuanto a los soportes electrónicos, es pertinente tener en cuenta el Modelo de Requisitos y el Sistema Integrado de Conservación (Plan de Preservación Documental), de cara a la gestión documental electrónica, para lo cual se evidencian los informes de implementación respectivos. | X13: 20260330-Informe implementación-PGD-I-Trimestre 20260630_Informe implementación-PGD-II-Trimestre 2026_Matriz Seguimiento_Proyecto Inversion_PINAR_1 y 2 trimestre 20260630_Matriz Seguimiento_PINAR_ll_TRI 20260330_Inf_Tr_MOREQ 20260330_Inf_Impl_T1_SIC 20260630_Inf_Impl_T2_SIC | Y13: Validar con Yineth si se sube a 100 dado que se están ejecutando los programas
H14: Frente al proceso de la planeación de la función archivística, elaboración y aprobación en instancias del Comité Institucional de Desarrollo Administrativo, del Plan institucional de archivos - PINAR e inclusión de actividades de gestión documental en planeación de la entidad. | J14: 3 | K14: Programa de Gestión Documental - PGD. | L14: La entidad realiza mejora continua al Programa de Gestión Documental, cuyo propósito es mantener los procesos y actividades de la gestión documental en continua innovación, desarrollo y actualización. | M14: =IF(L14="","",INDEX(Niveles,MATCH(MID('MGDA reporte I-2026 con justif'!L14,1,180),Listas!$E$2:$E$271,0),1)) -> AVANZADO 2 | N14: =IFERROR(INDEX(PARAMETROS!$E$15:$E$19,MATCH(M14,PARAMETROS!$A$15:$A$19,0),1), "") -> 100 | O14: 100 | P14: 100 | T14: Se mantiene en el mismo nivel | V14: Omaira Huertas | W14: Durante la vigencia 2024, el Programa de Gestión Documental fue actualizado y presentado para aprobación ante el Comité Institucional de Gestión y Desempeño, en sesión programada para el mes de agosto de 2024. Para el primer semestre del 2026, se implementó el PGD conforme a las actividades establecidas a corto plazo, generando dos (2) informes trimestrales, los cuales se encuentran publicados en la página web de la entidad, en la sección de datos abiertos | X14: 20260330-Informe implementación-PGD-I-Trimestre 20260630_Informe implementación-PGD-II-Trimestre
J15: 4 | K15: Plan Institucional de Archivos - PINAR | L15: La entidad realiza procesos de mejora continua al Plan Institucional de Archivos - PINAR, para generar recomendaciones sobre su desarrollo y actualización. | M15: =IF(L15="","",INDEX(Niveles,MATCH(MID('MGDA reporte I-2026 con justif'!L15,1,180),Listas!$E$2:$E$271,0),1)) -> AVANZADO 2 | N15: =IFERROR(INDEX(PARAMETROS!$E$15:$E$19,MATCH(M15,PARAMETROS!$A$15:$A$19,0),1), "") -> 100 | O15: 100 | P15: 100 | T15: Se mantiene en el mismo nivel | V15: Omaira Huertas | W15: Durante el primer semestre de 2026, se actualizó el Plan Institucional de Archivos – PINAR, el cual fue aprobado por el Comité Institucional de Gestión y Desempeño (CIGD) y publicado en el mes de enero de la misma vigencia. Para el primer semestre de 2026, se implementó el PINAR conforme a las actividades establecidas, realizando el seguimiento trimestral a través de la matriz de seguimiento correspondiente | X15: 01_20260630_Matriz Seguimiento_PINAR_ll_TRI 2026_Matriz Seguimiento_Proyecto Inversion_PINAR_1 y 2 trimestre
J16: 5 | K16: Sistema Integrado de Conservación - SIC | L16: la entidad realiza los procesos de mejora al sistema integrado de acuerdo con los hallazgos realizados durante el proceso de control y seguimiento. | M16: =IF(L16="","",INDEX(Niveles,MATCH(MID('MGDA reporte I-2026 con justif'!L16,1,180),Listas!$E$2:$E$271,0),1)) -> AVANZADO 2 | N16: =IFERROR(INDEX(PARAMETROS!$E$15:$E$19,MATCH(M16,PARAMETROS!$A$15:$A$19,0),1), "") -> 100 | O16: 100 | P16: 100 | T16: Se mantiene en el mismo nivel | V16: Xiomara Cabrera | W16: El 28 de junio de 2024 se aprobó por el Comité Institucional de Gestión y Desempeño el Sistema Integrado de Conservación 2024-2029 V2, el cual ha sido implementado y las actividades se pueden identificar en los informes trimestrales I (marzo) y II (junio) del año 2026 | X16: 20260330_Inf_Impl_T1_SIC 20260630_Inf_Impl_T2_SIC
J17: 6 | K17: Plan de análisis de procesos y procedimientos de la producción documental | L17: La entidad realiza seguimiento y control a los procesos y procedimientos de la producción documental con el fin de medir el avance de su implementación. | M17: =IF(L17="","",INDEX(Niveles,MATCH(MID('MGDA reporte I-2026 con justif'!L17,1,180),Listas!$E$2:$E$271,0),1)) -> AVANZADO 1 | N17: =IFERROR(INDEX(PARAMETROS!$E$15:$E$19,MATCH(M17,PARAMETROS!$A$15:$A$19,0),1), "") -> 94 | O17: 94 | P17: 94 | T17: Se mantiene en el mismo nivel | V17: Brayan, rodrigo, Andrea Castro | W17: Para dar a conocer los procesos y procedimientos de la producción documental, se realizan capacitaciones y asistencias técnicas en materia archivística, así como se han desarrollado actividades para realizar actualización de algunos procedimientos, instructivos y formatos en el SIG | X17: 2026_Relación Asistencias Técnicas 2026_Matriz-Segui_Ene_Abri Las evidencias que hacen referencia al SIG se ubican en lo reportado para PINAR en la ruta deL share Point 3. GESTIÓN DE CALIDAD -> 4.Planes -> 4.PINAR -> 2026_PINAR -> 2_Actualizar instrumentos archivísticos -> I y II trimestre el ítem 2,6 -> 2.6. Elaborar y/o actualizar documentos del Sistema Integrado de Gestiòn del Grupo de Gestión Documental.
J18: 7 | K18: Matriz de Riesgos en Gestión Documental | L18: La entidad realiza seguimiento y control a la matriz de riesgos en gestión documental. | M18: =IF(L18="","",INDEX(Niveles,MATCH(MID('MGDA reporte I-2026 con justif'!L18,1,180),Listas!$E$2:$E$271,0),1)) -> AVANZADO 1 | N18: =IFERROR(INDEX(PARAMETROS!$E$15:$E$19,MATCH(M18,PARAMETROS!$A$15:$A$19,0),1), "") -> 94 | O18: 94 | P18: 94 | T18: Se mantiene en el mismo nivel | V18: Yineth Gonzalez | W18: Se realiza el seguimiento y control cuatrimestral a la matriz de riesgos de gestión documental. | X18: Gestión Integridad Publica
I19: Planeación estratégica | J19: 1 | K19: Articulación de la Gestión Documental con el Plan Estratégico Institucional | L19: La entidad realiza procesos de mejora continua a las estrategias y planes de la institución para garantizar que la gestión documental se encuentra articulada y garantizar su desarrollo en la institución. | M19: =IF(L19="","",INDEX(Niveles,MATCH(MID('MGDA reporte I-2026 con justif'!L19,1,180),Listas!$E$2:$E$271,0),1)) -> AVANZADO 2 | N19: =IFERROR(INDEX(PARAMETROS!$E$15:$E$19,MATCH(M19,PARAMETROS!$A$15:$A$19,0),1), "") -> 100 | O19: 100 | P19: 100 | Q19: =IFERROR(AVERAGE(N19:N20),"") -> 100 | R19: =IFERROR(AVERAGE(O19:O20),"") -> 100 | S19: =IFERROR(AVERAGE(P19:P20),"") -> 100 | T19: Se mantiene en el mismo nivel | V19: Yineth Gonzalez | W19: Se realizó el reporte trimestral de los Planes de Mejoramiento por Procesos (PMP) y de Calidad (PMC), con corte al 31 de marzo y 30 de junio de 2026. | X19: 202603_Trimestre-I 202606_ Trim ll
J20: 2 | K20: Articulación de la Gestión Documental con Políticas del Modelo Integrado de Planeación y Gestión - MIPG | L20: La entidad realiza medidas de acción encaminadas a la mejora continua para alcanzar la excelencia, en la correcta articulación de la gestión documental con el MIPG. | M20: =IF(L20="","",INDEX(Niveles,MATCH(MID('MGDA reporte I-2026 con justif'!L20,1,180),Listas!$E$2:$E$271,0),1)) -> AVANZADO 2 | N20: =IFERROR(INDEX(PARAMETROS!$E$15:$E$19,MATCH(M20,PARAMETROS!$A$15:$A$19,0),1), "") -> 100 | O20: 100 | T20: Se mantiene en el mismo nivel | V20: Yineth Gonzalez | Y20: Falta descripción y soporte Yineth
I21: Control, evaluación y seguimiento | J21: 1 | K21: Indicadores de Gestión | L21: La entidad realiza procesos de mejora continua al cumplimiento de los planes y proyectos establecidos en el PINAR. | M21: =IF(L21="","",INDEX(Niveles,MATCH(MID('MGDA reporte I-2026 con justif'!L21,1,180),Listas!$E$2:$E$271,0),1)) -> AVANZADO 2 | N21: =IFERROR(INDEX(PARAMETROS!$E$15:$E$19,MATCH(M21,PARAMETROS!$A$15:$A$19,0),1), "") -> 100 | O21: 100 | P21: 100 | Q21: =IFERROR(AVERAGE(N21:N23),"") -> 100 | R21: =IFERROR(AVERAGE(O21:O23),"") -> 100 | S21: =IFERROR(AVERAGE(P21:P23),"") -> 100 | T21: Se mantiene en el mismo nivel | V21: Omaira Huertas | W21: La entidad realiza procesos de mejora continua a los planes y proyectos establecidos en el PINAR mediantes el seguimiento al cumpliemiento mediante la matriz de seguimiento trimestral. | X21: Share point - Gestión de calidad - planes - 2026_PINAR
I22: Control, evaluación y seguimiento | J22: 2 | K22: Informes de Gestión | L22: La entidad a través de los informes de gestión genera procesos de mejora continua al desarrollo de la función archivística. | M22: =IF(L22="","",INDEX(Niveles,MATCH(MID('MGDA reporte I-2026 con justif'!L22,1,180),Listas!$E$2:$E$271,0),1)) -> AVANZADO 2 | N22: =IFERROR(INDEX(PARAMETROS!$E$15:$E$19,MATCH(M22,PARAMETROS!$A$15:$A$19,0),1), "") -> 100 | O22: 100 | P22: 100 | T22: Se mantiene en el mismo nivel | V22: Yineth Gonzalez | Y22: Falta descripción y soporte Yineth
J23: 3 | K23: Programa de Auditoría y Control | L23: La entidad realiza procesos de mejora continua, como resultado de las observaciones y hallazgos encontrados a los procesos de la gestión documental y la función archivística. | M23: =IF(L23="","",INDEX(Niveles,MATCH(MID('MGDA reporte I-2026 con justif'!L23,1,180),Listas!$E$2:$E$271,0),1)) -> AVANZADO 2 | N23: =IFERROR(INDEX(PARAMETROS!$E$15:$E$19,MATCH(M23,PARAMETROS!$A$15:$A$19,0),1), "") -> 100 | O23: 100 | P23: 100 | T23: Se mantiene en el mismo nivel | V23: Omaira Huertas/pendiente definir responsable del programa | W23: El Programa de Auditoría y Control en Gestión Documental, durante el primer semestre, se implementó a través del seguimiento a los avances y la ejecución de los planes, programas y proyectos del proceso de gestión documental, establecidos en el PINAR, el PGD y el SIC | X23: 20260330-Informe implementación-PGD-I-Trimestre 20260630_Informe implementación-PGD-II-Trimestre 2026_Matriz Seguimiento_Proyecto Inversion_PINAR_1 y 2 trimestre 20260330_Informe_I_Trimestre_SIC 20260630_Informe_II_Trimestre_SIC | Y23: Validar, si estamos actualizando el programa se deja con 100 como ha venido por el hecho de extistir?
F24: ADMINISTRACIÓN DE ARCHIVOS | I24: Administración | J24: 1 | K24: Planeación de la Administración de archivos | L24: La entidad desarrolla estrategias de innovación, empoderamiento, autogestión, con el fin de cumplir me manera más eficaz la política archivística y administración de los fondos documentales. | M24: =IF(L24="","",INDEX(Niveles,MATCH(MID('MGDA reporte I-2026 con justif'!L24,1,180),Listas!$E$2:$E$271,0),1)) -> AVANZADO 2 | N24: =IFERROR(INDEX(PARAMETROS!$E$15:$E$19,MATCH(M24,PARAMETROS!$A$15:$A$19,0),1), "") -> 100 | O24: 100 | P24: 100 | Q24: =IFERROR(AVERAGE(N24),"") -> 100 | R24: =IFERROR(AVERAGE(O24),"") -> 100 | S24: =IFERROR(AVERAGE(P24),"") -> 100 | T24: Se mantiene en el mismo nivel | V24: Omaira Huertas Jorge Quiroga | W24: El Grupo de Gestión Documental elaboró, durante el primer semestre, ejecutó el Cronograma de Transferencias Documentales Primarias para la vigencia 2026. Para el primer semestre, se ejecutó un total de veintitrés (7) transferencias documentales primarias, correspondientes a los periodos 1 y 2, como resultado de la intervención adelantada por las áreas productoras sobre los archivos pertenecientes a sus fondos acumulados. Estas transferencias representan un volumen aproximado de 15,75 metros lineales, equivalentes a ochocientas veintinueve (63) cajas tipo X-200. | X24: 20260630_Matriz Transferencias Primarias 2026 | Y24: Omaira Validar "equivalentes a ochocientas veintinueve (63) cajas tipo X-200." Jorge Quroga "Falta incluir información y soporte
I25: Recursos físicos | J25: 1 | K25: Infraestructura Locativa | L25: La entidad realiza seguimiento y control a la adecuación de la infraestructura, con el fin de cumplir con las especificaciones técnicas y normativas. | M25: =IF(L25="","",INDEX(Niveles,MATCH(MID('MGDA reporte I-2026 con justif'!L25,1,180),Listas!$E$2:$E$271,0),1)) -> AVANZADO 1 | N25: =IFERROR(INDEX(PARAMETROS!$E$15:$E$19,MATCH(M25,PARAMETROS!$A$15:$A$19,0),1), "") -> 94 | O25: =IFERROR(INDEX(PARAMETROS!$E$15:$E$19,MATCH(N25,PARAMETROS!$A$15:$A$19,0),1), "") | Q25: =IFERROR(AVERAGE(N25),"") -> 94 | R25: =IFERROR(AVERAGE(O25),"") | S25: =IFERROR(AVERAGE(P25),"") | T25: Se avanza al siguiente nivel | V25: Xiomara Cabrera | W25: La entidad realiza seguimiento y control, mediante la elaboración del informe de condiciones de la infraestructura de los espacios de almacenamiento de archivo y su respectiva socialización y los correos de solicitud al Grupo de Gestión Administrativa para realizar las mejoras en los espacios de almacenamiento de archivo. | X25: 20260128_Informe de estado de las condiciones físicas de los espacios de almacenamiento de archivo. 20260324_Correo de solicitud arreglo cubierta AC 20260527_Correo electrónico solicitud arreglos goteras AC | Y25: Validar si es viable subir de nivel dado que se están acciones para mejorar las instalaciones de AC y en el Archivo de Gestión
I26: Talento humano | J26: 1 | K26: Gestión Humana | L26: La entidad realiza seguimiento y control al personal que se encuentra desarrollando las actividades de la función archivística y administración de archivos, que conllevan al mejorando del ambiente organizacional, la confianza y colaboración para el fortalecimiento profesional. | M26: =IF(L26="","",INDEX(Niveles,MATCH(MID('MGDA reporte I-2026 con justif'!L26,1,180),Listas!$E$2:$E$271,0),1)) -> AVANZADO 1 | N26: =IFERROR(INDEX(PARAMETROS!$E$15:$E$19,MATCH(M26,PARAMETROS!$A$15:$A$19,0),1), "") -> 94 | O26: 90 | P26: 94 | Q26: =IFERROR(AVERAGE(N26:N27),"") -> 94 | R26: =IFERROR(AVERAGE(O26:O27),"") -> 82.5 | S26: =IFERROR(AVERAGE(P26:P27),"") -> 94 | T26: Se mantiene en el mismo nivel | V26: Katherine - contractual | W26: El Grupo de Gestión Documental, realiza continuo seguimiento y control al desarrollo de las actividades relacionadas con la función archivística a través de las evaluaciones de desempeño de los funcionarios y validación de los informes contractuales de los contratistas. | X26: Se evidencia en las evaluaciones de desempeño de los funcionarios e informes contractuales mensuales de los contratistas de prestación de servicios | Y26: Se ajustó por que acá habla del personal del Grupo de GEstión Documental y no de capacitación a la organización
